Workbook

Sheet Comité
A1: Évaluation des propositions
A3: Titre de la proposition | B3: Lien vers le résumé | C3: Panel (soumis avec) | D3: Panel (choix du comité) | E3: Lien avec le thème | F3: Qualité scientifique | G3: Décision
A5: Exemple 1 | B5: lien | C5: Titre 1 | E5: =AVERAGE('Membre A'!C5,'Membre B'!C5,'Membre C'!C5) -> 2 | F5: =AVERAGE('Membre A'!D5,'Membre B'!D5,'Membre C'!D5) -> 2.6666667 | G5: Réfuser
A6: Exemple 2 | B6: lien | C6: Titre 2 | E6: =AVERAGE('Membre A'!C6,'Membre B'!C6,'Membre C'!C6) -> 3.6666667 | F6: =AVERAGE('Membre A'!D6,'Membre B'!D6,'Membre C'!D6) -> 4.3333333 | G6: Accepter
A7: Exemple 3 | B7: lien | D7: Titre 3 | E7: =AVERAGE('Membre A'!C7,'Membre B'!C7,'Membre C'!C7) -> 4.3333333 | F7: =AVERAGE('Membre A'!D7,'Membre B'!D7,'Membre C'!D7) -> 2.3333333 | G7: Retravailler
E8: =AVERAGE('Membre A'!C8,'Membre B'!C8,'Membre C'!C8) -> #DIV/0! | F8: =AVERAGE('Membre A'!D8,'Membre B'!D8,'Membre C'!D8) -> #DIV/0!
E9: =AVERAGE('Membre A'!C9,'Membre B'!C9,'Membre C'!C9) -> #DIV/0! | F9: =AVERAGE('Membre A'!D9,'Membre B'!D9,'Membre C'!D9) -> #DIV/0!
E10: =AVERAGE('Membre A'!C10,'Membre B'!C10,'Membre C'!C10) -> #DIV/0! | F10: =AVERAGE('Membre A'!D10,'Membre B'!D10,'Membre C'!D10) -> #DIV/0!
E11: =AVERAGE('Membre A'!C11,'Membre B'!C11,'Membre C'!C11) -> #DIV/0! | F11: =AVERAGE('Membre A'!D11,'Membre B'!D11,'Membre C'!D11) -> #DIV/0!
E12: =AVERAGE('Membre A'!C12,'Membre B'!C12,'Membre C'!C12) -> #DIV/0! | F12: =AVERAGE('Membre A'!D12,'Membre B'!D12,'Membre C'!D12) -> #DIV/0!
E13: =AVERAGE('Membre A'!C13,'Membre B'!C13,'Membre C'!C13) -> #DIV/0! | F13: =AVERAGE('Membre A'!D13,'Membre B'!D13,'Membre C'!D13) -> #DIV/0!
E14: =AVERAGE('Membre A'!C14,'Membre B'!C14,'Membre C'!C14) -> #DIV/0! | F14: =AVERAGE('Membre A'!D14,'Membre B'!D14,'Membre C'!D14) -> #DIV/0!
E15: =AVERAGE('Membre A'!C15,'Membre B'!C15,'Membre C'!C15) -> #DIV/0! | F15: =AVERAGE('Membre A'!D15,'Membre B'!D15,'Membre C'!D15) -> #DIV/0!
E16: =AVERAGE('Membre A'!C16,'Membre B'!C16,'Membre C'!C16) -> #DIV/0! | F16: =AVERAGE('Membre A'!D16,'Membre B'!D16,'Membre C'!D16) -> #DIV/0!
E17: =AVERAGE('Membre A'!C17,'Membre B'!C17,'Membre C'!C17) -> #DIV/0! | F17: =AVERAGE('Membre A'!D17,'Membre B'!D17,'Membre C'!D17) -> #DIV/0!
E18: =AVERAGE('Membre A'!C18,'Membre B'!C18,'Membre C'!C18) -> #DIV/0! | F18: =AVERAGE('Membre A'!D18,'Membre B'!D18,'Membre C'!D18) -> #DIV/0!
E19: =AVERAGE('Membre A'!C19,'Membre B'!C19,'Membre C'!C19) -> #DIV/0! | F19: =AVERAGE('Membre A'!D19,'Membre B'!D19,'Membre C'!D19) -> #DIV/0!
... E111: =AVERAGE('Membre A'!C111,'Membre B'!C111,'Membre C'!C111) -> #DIV/0! | F111: =AVERAGE('Membre A'!D111,'Membre B'!D111,'Membre C'!D111) -> #DIV/0!

Sheet Membre A
A1: Évaluation des propositions
A2: En date : --/--/--
A3: Titre de la proposition | B3: Lien vers le résumé | C3: Lien avec le thème | D3: Qualité scientifique | E3: Recommandation
A5: =Comité!A5 -> Exemple 1 | B5: =Comité!B5 -> lien | C5: 1 | D5: 2 | E5: Réfuser
A6: =Comité!A6 -> Exemple 2 | B6: =Comité!B6 -> lien | C6: 4 | D6: 5 | E6: Accepter
A7: =Comité!A7 -> Exemple 3 | B7: =Comité!B7 -> lien | C7: 4 | D7: 2 | E7: Retravailler
A8: =Comité!A8 -> 0 | B8: =Comité!B8 -> 0
A9: =Comité!A9 -> 0 | B9: =Comité!B9 -> 0
A10: =Comité!A10 -> 0 | B10: =Comité!B10 -> 0
A11: =Comité!A11 -> 0 | B11: =Comité!B11 -> 0
A12: =Comité!A12 -> 0 | B12: =Comité!B12 -> 0
A13: =Comité!A13 -> 0 | B13: =Comité!B13 -> 0
A14: =Comité!A14 -> 0 | B14: =Comité!B14 -> 0
A15: =Comité!A15 -> 0 | B15: =Comité!B15 -> 0
A16: =Comité!A16 -> 0 | B16: =Comité!B16 -> 0
A17: =Comité!A17 -> 0 | B17: =Comité!B17 -> 0
A18: =Comité!A18 -> 0 | B18: =Comité!B18 -> 0
A19: =Comité!A19 -> 0 | B19: =Comité!B19 -> 0
... A110: =Comité!A110 -> 0 | B110: =Comité!B110 -> 0

Sheet Membre B
A1: Évaluation des propositions
A2: En date : --/--/--
A3: Titre de la proposition | B3: Lien vers le résumé | C3: Lien avec le thème | D3: Qualité scientifique | E3: Recommandation
A5: =Comité!A5 -> Exemple 1 | B5: =Comité!B5 -> lien | C5: 3 | D5: 3 | E5: Retravailler
A6: =Comité!A6 -> Exemple 2 | B6: =Comité!B6 -> lien | C6: 4 | D6: 4 | E6: Accepter
A7: =Comité!A7 -> Exemple 3 | B7: =Comité!B7 -> lien | C7: 5 | D7: 3 | E7: Accepter
A8: =Comité!A8 -> 0 | B8: =Comité!B8 -> 0
A9: =Comité!A9 -> 0 | B9: =Comité!B9 -> 0
A10: =Comité!A10 -> 0 | B10: =Comité!B10 -> 0
A11: =Comité!A11 -> 0 | B11: =Comité!B11 -> 0
A12: =Comité!A12 -> 0 | B12: =Comité!B12 -> 0
A13: =Comité!A13 -> 0 | B13: =Comité!B13 -> 0
A14: =Comité!A14 -> 0 | B14: =Comité!B14 -> 0
A15: =Comité!A15 -> 0 | B15: =Comité!B15 -> 0
A16: =Comité!A16 -> 0 | B16: =Comité!B16 -> 0
A17: =Comité!A17 -> 0 | B17: =Comité!B17 -> 0
A18: =Comité!A18 -> 0 | B18: =Comité!B18 -> 0
A19: =Comité!A19 -> 0 | B19: =Comité!B19 -> 0
... A110: =Comité!A110 -> 0 | B110: =Comité!B110 -> 0

Sheet Membre C
A1: Évaluation des propositions
A2: En date : --/--/--
A3: Titre de la proposition | B3: Lien vers le résumé | C3: Lien avec le thème | D3: Qualité scientifique | E3: Recommandation
A5: =Comité!A5 -> Exemple 1 | B5: =Comité!B5 -> lien | C5: 2 | D5: 3 | E5: Réfuser
A6: =Comité!A6 -> Exemple 2 | B6: =Comité!B6 -> lien | C6: 3 | D6: 4 | E6: Retravailler
A7: =Comité!A7 -> Exemple 3 | B7: =Comité!B7 -> lien | C7: 4 | D7: 2 | E7: Retravailler
A8: =Comité!A8 -> 0 | B8: =Comité!B8 -> 0
A9: =Comité!A9 -> 0 | B9: =Comité!B9 -> 0
A10: =Comité!A10 -> 0 | B10: =Comité!B10 -> 0
A11: =Comité!A11 -> 0 | B11: =Comité!B11 -> 0
A12: =Comité!A12 -> 0 | B12: =Comité!B12 -> 0
A13: =Comité!A13 -> 0 | B13: =Comité!B13 -> 0
A14: =Comité!A14 -> 0 | B14: =Comité!B14 -> 0
A15: =Comité!A15 -> 0 | B15: =Comité!B15 -> 0
A16: =Comité!A16 -> 0 | B16: =Comité!B16 -> 0
A17: =Comité!A17 -> 0 | B17: =Comité!B17 -> 0
A18: =Comité!A18 -> 0 | B18: =Comité!B18 -> 0
A19: =Comité!A19 -> 0 | B19: =Comité!B19 -> 0
... A110: =Comité!A110 -> 0 | B110: =Comité!B110 -> 0

Sheet Tables
A1: Recommandations | D1: Panels
A2: Accepter | D2: Titre 1
A3: Réfuser | D3: Titre 2
A4: Retravailler | D4: Titre 3
D5: Titre 4
D6: Titre 5
D7: Titre 6
D8: Titre 7
D9: Titre 8
D10: Titre 9
D11: Titre 10
D12: Titre 11
D13: Titre 12
D14: Titre 13
D15: Titre 14
D16: Titre 15
... D21: Titre 20
