BEGIN:VCALENDAR
VERSION:2.0
PRODID:-//Société québécoise pour l&#039;étude de la religion - ECPv6.15.11//NONSGML v1.0//EN
CALSCALE:GREGORIAN
METHOD:PUBLISH
X-ORIGINAL-URL:https://sqer.ca
X-WR-CALDESC:Évènements pour Société québécoise pour l&#039;étude de la religion
REFRESH-INTERVAL;VALUE=DURATION:PT1H
X-Robots-Tag:noindex
X-PUBLISHED-TTL:PT1H
BEGIN:VTIMEZONE
TZID:America/New_York
BEGIN:DAYLIGHT
TZOFFSETFROM:-0500
TZOFFSETTO:-0400
TZNAME:EDT
DTSTART:20250309T070000
END:DAYLIGHT
BEGIN:STANDARD
TZOFFSETFROM:-0400
TZOFFSETTO:-0500
TZNAME:EST
DTSTART:20251102T060000
END:STANDARD
BEGIN:DAYLIGHT
TZOFFSETFROM:-0500
TZOFFSETTO:-0400
TZNAME:EDT
DTSTART:20260308T070000
END:DAYLIGHT
BEGIN:STANDARD
TZOFFSETFROM:-0400
TZOFFSETTO:-0500
TZNAME:EST
DTSTART:20261101T060000
END:STANDARD
BEGIN:DAYLIGHT
TZOFFSETFROM:-0500
TZOFFSETTO:-0400
TZNAME:EDT
DTSTART:20270314T070000
END:DAYLIGHT
BEGIN:STANDARD
TZOFFSETFROM:-0400
TZOFFSETTO:-0500
TZNAME:EST
DTSTART:20271107T060000
END:STANDARD
END:VTIMEZONE
BEGIN:VEVENT
DTSTART;VALUE=DATE:20260531
DTEND;VALUE=DATE:20260603
DTSTAMP:20260421T072117
CREATED:20260415T162617Z
LAST-MODIFIED:20260415T162617Z
UID:1741-1780185600-1780444799@sqer.ca
SUMMARY:Conférence annuelle AÉJC
DESCRIPTION:L’Association d’études juives canadiennes / Association for Canadian Jewish Studies a le plaisir d’annoncer que sa conférence nationale annuelle de 2026 se tiendra à l’Université York\, à Toronto\, du dimanche 31 mai au mardi 2 juin 2026. \nInscription obligatoire
URL:https://sqer.ca/evenement/conference-annuelle-aejc/
LOCATION:Université York\, Toronto\, Ontario\, Canada
ATTACH;FMTTYPE=image/jpeg:https://sqer.ca/wp-content/uploads/2026/04/barry-zhou-khjwIW9HH5s-unsplash-scaled.jpg
END:VEVENT
END:VCALENDAR