BEGIN:VCALENDAR
VERSION:2.0
PRODID:-//Société québécoise pour l&#039;étude de la religion - ECPv6.15.11//NONSGML v1.0//EN
CALSCALE:GREGORIAN
METHOD:PUBLISH
X-WR-CALNAME:Société québécoise pour l&#039;étude de la religion
X-ORIGINAL-URL:https://sqer.ca
X-WR-CALDESC:Évènements pour Société québécoise pour l&#039;étude de la religion
REFRESH-INTERVAL;VALUE=DURATION:PT1H
X-Robots-Tag:noindex
X-PUBLISHED-TTL:PT1H
BEGIN:VTIMEZONE
TZID:America/New_York
BEGIN:DAYLIGHT
TZOFFSETFROM:-0500
TZOFFSETTO:-0400
TZNAME:EDT
DTSTART:20250309T070000
END:DAYLIGHT
BEGIN:STANDARD
TZOFFSETFROM:-0400
TZOFFSETTO:-0500
TZNAME:EST
DTSTART:20251102T060000
END:STANDARD
BEGIN:DAYLIGHT
TZOFFSETFROM:-0500
TZOFFSETTO:-0400
TZNAME:EDT
DTSTART:20260308T070000
END:DAYLIGHT
BEGIN:STANDARD
TZOFFSETFROM:-0400
TZOFFSETTO:-0500
TZNAME:EST
DTSTART:20261101T060000
END:STANDARD
BEGIN:DAYLIGHT
TZOFFSETFROM:-0500
TZOFFSETTO:-0400
TZNAME:EDT
DTSTART:20270314T070000
END:DAYLIGHT
BEGIN:STANDARD
TZOFFSETFROM:-0400
TZOFFSETTO:-0500
TZNAME:EST
DTSTART:20271107T060000
END:STANDARD
END:VTIMEZONE
BEGIN:VEVENT
DTSTART;TZID=America/New_York:20260423T123000
DTEND;TZID=America/New_York:20260423T140000
DTSTAMP:20260423T014806
CREATED:20260415T163326Z
LAST-MODIFIED:20260415T163326Z
UID:1745-1776947400-1776952800@sqer.ca
SUMMARY:Burmese Buddhism\, Military Resistance\, Civil Disobedience\, and Social Engagement (Joah McGee)
DESCRIPTION:Le Centre d’études et de recherches sur l’Inde\, l’Asie du Sud et sa diaspora aura le plaisir d’accueillir Joah McGee\, directeur de Better Burma\, une organisation à but non lucratif venant en aide aux communautés touchées par les conflits et les déplacements de population en Birmanie. Pour l’occasion\, Joah McGee nous présentera ses travaux sur le bouddhisme birman et ses liens avec la résistance militaire\, le rôle dela résistance créative\, la désobéissance civile et les formes d’engagement social dans le contexte contemporain du Myanmar. Sa présentation analysera comment les traditions religieuses interagissent avec les dynamiques politiques et les mouvements de contestation. \nLa conférence sera en anglais\, mais il sera possible de poser les questions en français. \nUn lien de connexion est aussi disponible.
URL:https://sqer.ca/evenement/burmese-buddhism-mcgee/
LOCATION:Pavillon Thérèse-Casgrain\, salle W-3235\, 455\, René-Lévesque E\, Montréal\, Québec\, Canada
ATTACH;FMTTYPE=image/png:https://sqer.ca/wp-content/uploads/2026/04/JoahMcGeeapr2026.png
END:VEVENT
END:VCALENDAR